BEGIN:VCALENDAR
VERSION:2.0
PRODID:-//AACAO - ECPv6.2.5//NONSGML v1.0//EN
CALSCALE:GREGORIAN
METHOD:PUBLISH
X-ORIGINAL-URL:https://aacao.org
X-WR-CALDESC:Events for AACAO
REFRESH-INTERVAL;VALUE=DURATION:PT1H
X-Robots-Tag:noindex
X-PUBLISHED-TTL:PT1H
BEGIN:VTIMEZONE
TZID:UTC
BEGIN:STANDARD
TZOFFSETFROM:+0000
TZOFFSETTO:+0000
TZNAME:UTC
DTSTART:20230101T000000
END:STANDARD
END:VTIMEZONE
BEGIN:VEVENT
DTSTART;TZID=UTC:20230305T180000
DTEND;TZID=UTC:20230305T210000
DTSTAMP:20260426T014623
CREATED:20230224T225300Z
LAST-MODIFIED:20230224T225300Z
UID:16911-1678039200-1678050000@aacao.org
SUMMARY:Fund Raising Dinner
DESCRIPTION:
URL:https://aacao.org/event/fund-raising-dinner/
LOCATION:Bint jubeil Cultural Center\, 14201 Prospect st\, dearborn\, MI\, 48128\, United States
END:VEVENT
END:VCALENDAR